BEGIN:VCALENDAR
VERSION:2.0
PRODID:-//Seneca Lake Wine Trail - ECPv6.15.17.1//NONSGML v1.0//EN
CALSCALE:GREGORIAN
METHOD:PUBLISH
X-WR-CALNAME:Seneca Lake Wine Trail
X-ORIGINAL-URL:https://senecalakewine.com
X-WR-CALDESC:Events for Seneca Lake Wine Trail
REFRESH-INTERVAL;VALUE=DURATION:PT1H
X-Robots-Tag:noindex
X-PUBLISHED-TTL:PT1H
BEGIN:VTIMEZONE
TZID:America/New_York
BEGIN:DAYLIGHT
TZOFFSETFROM:-0500
TZOFFSETTO:-0400
TZNAME:EDT
DTSTART:20200308T070000
END:DAYLIGHT
BEGIN:STANDARD
TZOFFSETFROM:-0400
TZOFFSETTO:-0500
TZNAME:EST
DTSTART:20201101T060000
END:STANDARD
BEGIN:DAYLIGHT
TZOFFSETFROM:-0500
TZOFFSETTO:-0400
TZNAME:EDT
DTSTART:20210314T070000
END:DAYLIGHT
BEGIN:STANDARD
TZOFFSETFROM:-0400
TZOFFSETTO:-0500
TZNAME:EST
DTSTART:20211107T060000
END:STANDARD
BEGIN:DAYLIGHT
TZOFFSETFROM:-0500
TZOFFSETTO:-0400
TZNAME:EDT
DTSTART:20220313T070000
END:DAYLIGHT
BEGIN:STANDARD
TZOFFSETFROM:-0400
TZOFFSETTO:-0500
TZNAME:EST
DTSTART:20221106T060000
END:STANDARD
BEGIN:DAYLIGHT
TZOFFSETFROM:-0500
TZOFFSETTO:-0400
TZNAME:EDT
DTSTART:20230312T070000
END:DAYLIGHT
BEGIN:STANDARD
TZOFFSETFROM:-0400
TZOFFSETTO:-0500
TZNAME:EST
DTSTART:20231105T060000
END:STANDARD
BEGIN:DAYLIGHT
TZOFFSETFROM:-0500
TZOFFSETTO:-0400
TZNAME:EDT
DTSTART:20240310T070000
END:DAYLIGHT
BEGIN:STANDARD
TZOFFSETFROM:-0400
TZOFFSETTO:-0500
TZNAME:EST
DTSTART:20241103T060000
END:STANDARD
BEGIN:DAYLIGHT
TZOFFSETFROM:-0500
TZOFFSETTO:-0400
TZNAME:EDT
DTSTART:20250309T070000
END:DAYLIGHT
BEGIN:STANDARD
TZOFFSETFROM:-0400
TZOFFSETTO:-0500
TZNAME:EST
DTSTART:20251102T060000
END:STANDARD
END:VTIMEZONE
BEGIN:VEVENT
DTSTART;TZID=America/New_York:20241004T100000
DTEND;TZID=America/New_York:20241004T170000
DTSTAMP:20260421T044319
CREATED:20240809T180811Z
LAST-MODIFIED:20240809T182642Z
UID:10005379-1728036000-1728061200@senecalakewine.com
SUMMARY:Friday and Foccacia at Lamoreaux Landing Wine Cellars
DESCRIPTION:Join Lamoreaux Landing Wine Cellars for a locally-crafted\, delicious food and wine pairing featuring five foccacia bites made by Kiely’s Home Cooking\, each paired with a Lamoreaux wine. \nThe price per seat is $25 and reservations are required. \nPlease call 607-582-6011 to book your seat(s)! If space is available\, they may be able to accommodate walk-in guests. \nThese tastings are offered on Fridays\, with the first seating at 10am and the last seating is at 4:30pm.
URL:https://senecalakewine.com/event/friday-and-foccacia-at-lamoreaux-landing-wine-cellars/2024-10-04/
LOCATION:Lamoreaux Landing Wine Cellars\, 9224 State Route 414\, Lodi\, NY\, 14860\, United States
ATTACH;FMTTYPE=image/jpeg:https://senecalakewine.com/wp-content/uploads/2024/08/Lamoreaux-Foccacia-rotated.jpg
END:VEVENT
BEGIN:VEVENT
DTSTART;TZID=America/New_York:20240927T100000
DTEND;TZID=America/New_York:20240927T170000
DTSTAMP:20260421T044319
CREATED:20240809T180811Z
LAST-MODIFIED:20240809T182642Z
UID:10005378-1727431200-1727456400@senecalakewine.com
SUMMARY:Friday and Foccacia at Lamoreaux Landing Wine Cellars
DESCRIPTION:Join Lamoreaux Landing Wine Cellars for a locally-crafted\, delicious food and wine pairing featuring five foccacia bites made by Kiely’s Home Cooking\, each paired with a Lamoreaux wine. \nThe price per seat is $25 and reservations are required. \nPlease call 607-582-6011 to book your seat(s)! If space is available\, they may be able to accommodate walk-in guests. \nThese tastings are offered on Fridays\, with the first seating at 10am and the last seating is at 4:30pm.
URL:https://senecalakewine.com/event/friday-and-foccacia-at-lamoreaux-landing-wine-cellars/2024-09-27/
LOCATION:Lamoreaux Landing Wine Cellars\, 9224 State Route 414\, Lodi\, NY\, 14860\, United States
ATTACH;FMTTYPE=image/jpeg:https://senecalakewine.com/wp-content/uploads/2024/08/Lamoreaux-Foccacia-rotated.jpg
END:VEVENT
BEGIN:VEVENT
DTSTART;TZID=America/New_York:20240920T100000
DTEND;TZID=America/New_York:20240920T170000
DTSTAMP:20260421T044319
CREATED:20240809T180811Z
LAST-MODIFIED:20240809T182642Z
UID:10005377-1726826400-1726851600@senecalakewine.com
SUMMARY:Friday and Foccacia at Lamoreaux Landing Wine Cellars
DESCRIPTION:Join Lamoreaux Landing Wine Cellars for a locally-crafted\, delicious food and wine pairing featuring five foccacia bites made by Kiely’s Home Cooking\, each paired with a Lamoreaux wine. \nThe price per seat is $25 and reservations are required. \nPlease call 607-582-6011 to book your seat(s)! If space is available\, they may be able to accommodate walk-in guests. \nThese tastings are offered on Fridays\, with the first seating at 10am and the last seating is at 4:30pm.
URL:https://senecalakewine.com/event/friday-and-foccacia-at-lamoreaux-landing-wine-cellars/2024-09-20/
LOCATION:Lamoreaux Landing Wine Cellars\, 9224 State Route 414\, Lodi\, NY\, 14860\, United States
ATTACH;FMTTYPE=image/jpeg:https://senecalakewine.com/wp-content/uploads/2024/08/Lamoreaux-Foccacia-rotated.jpg
END:VEVENT
BEGIN:VEVENT
DTSTART;TZID=America/New_York:20240913T100000
DTEND;TZID=America/New_York:20240913T170000
DTSTAMP:20260421T044319
CREATED:20240809T180811Z
LAST-MODIFIED:20240809T182642Z
UID:10005376-1726221600-1726246800@senecalakewine.com
SUMMARY:Friday and Foccacia at Lamoreaux Landing Wine Cellars
DESCRIPTION:Join Lamoreaux Landing Wine Cellars for a locally-crafted\, delicious food and wine pairing featuring five foccacia bites made by Kiely’s Home Cooking\, each paired with a Lamoreaux wine. \nThe price per seat is $25 and reservations are required. \nPlease call 607-582-6011 to book your seat(s)! If space is available\, they may be able to accommodate walk-in guests. \nThese tastings are offered on Fridays\, with the first seating at 10am and the last seating is at 4:30pm.
URL:https://senecalakewine.com/event/friday-and-foccacia-at-lamoreaux-landing-wine-cellars/2024-09-13/
LOCATION:Lamoreaux Landing Wine Cellars\, 9224 State Route 414\, Lodi\, NY\, 14860\, United States
ATTACH;FMTTYPE=image/jpeg:https://senecalakewine.com/wp-content/uploads/2024/08/Lamoreaux-Foccacia-rotated.jpg
END:VEVENT
BEGIN:VEVENT
DTSTART;TZID=America/New_York:20240906T100000
DTEND;TZID=America/New_York:20240906T170000
DTSTAMP:20260421T044319
CREATED:20240809T180811Z
LAST-MODIFIED:20240809T182642Z
UID:10005375-1725616800-1725642000@senecalakewine.com
SUMMARY:Friday and Foccacia at Lamoreaux Landing Wine Cellars
DESCRIPTION:Join Lamoreaux Landing Wine Cellars for a locally-crafted\, delicious food and wine pairing featuring five foccacia bites made by Kiely’s Home Cooking\, each paired with a Lamoreaux wine. \nThe price per seat is $25 and reservations are required. \nPlease call 607-582-6011 to book your seat(s)! If space is available\, they may be able to accommodate walk-in guests. \nThese tastings are offered on Fridays\, with the first seating at 10am and the last seating is at 4:30pm.
URL:https://senecalakewine.com/event/friday-and-foccacia-at-lamoreaux-landing-wine-cellars/2024-09-06/
LOCATION:Lamoreaux Landing Wine Cellars\, 9224 State Route 414\, Lodi\, NY\, 14860\, United States
ATTACH;FMTTYPE=image/jpeg:https://senecalakewine.com/wp-content/uploads/2024/08/Lamoreaux-Foccacia-rotated.jpg
END:VEVENT
BEGIN:VEVENT
DTSTART;TZID=America/New_York:20240830T100000
DTEND;TZID=America/New_York:20240830T170000
DTSTAMP:20260421T044319
CREATED:20240809T180811Z
LAST-MODIFIED:20240809T182642Z
UID:10005374-1725012000-1725037200@senecalakewine.com
SUMMARY:Friday and Foccacia at Lamoreaux Landing Wine Cellars
DESCRIPTION:Join Lamoreaux Landing Wine Cellars for a locally-crafted\, delicious food and wine pairing featuring five foccacia bites made by Kiely’s Home Cooking\, each paired with a Lamoreaux wine. \nThe price per seat is $25 and reservations are required. \nPlease call 607-582-6011 to book your seat(s)! If space is available\, they may be able to accommodate walk-in guests. \nThese tastings are offered on Fridays\, with the first seating at 10am and the last seating is at 4:30pm.
URL:https://senecalakewine.com/event/friday-and-foccacia-at-lamoreaux-landing-wine-cellars/2024-08-30/
LOCATION:Lamoreaux Landing Wine Cellars\, 9224 State Route 414\, Lodi\, NY\, 14860\, United States
ATTACH;FMTTYPE=image/jpeg:https://senecalakewine.com/wp-content/uploads/2024/08/Lamoreaux-Foccacia-rotated.jpg
END:VEVENT
BEGIN:VEVENT
DTSTART;TZID=America/New_York:20240823T100000
DTEND;TZID=America/New_York:20240823T170000
DTSTAMP:20260421T044319
CREATED:20240809T180811Z
LAST-MODIFIED:20240809T182642Z
UID:10005373-1724407200-1724432400@senecalakewine.com
SUMMARY:Friday and Foccacia at Lamoreaux Landing Wine Cellars
DESCRIPTION:Join Lamoreaux Landing Wine Cellars for a locally-crafted\, delicious food and wine pairing featuring five foccacia bites made by Kiely’s Home Cooking\, each paired with a Lamoreaux wine. \nThe price per seat is $25 and reservations are required. \nPlease call 607-582-6011 to book your seat(s)! If space is available\, they may be able to accommodate walk-in guests. \nThese tastings are offered on Fridays\, with the first seating at 10am and the last seating is at 4:30pm.
URL:https://senecalakewine.com/event/friday-and-foccacia-at-lamoreaux-landing-wine-cellars/2024-08-23/
LOCATION:Lamoreaux Landing Wine Cellars\, 9224 State Route 414\, Lodi\, NY\, 14860\, United States
ATTACH;FMTTYPE=image/jpeg:https://senecalakewine.com/wp-content/uploads/2024/08/Lamoreaux-Foccacia-rotated.jpg
END:VEVENT
BEGIN:VEVENT
DTSTART;TZID=America/New_York:20240816T100000
DTEND;TZID=America/New_York:20240816T170000
DTSTAMP:20260421T044319
CREATED:20240809T180811Z
LAST-MODIFIED:20240809T182642Z
UID:10005372-1723802400-1723827600@senecalakewine.com
SUMMARY:Friday and Foccacia at Lamoreaux Landing Wine Cellars
DESCRIPTION:Join Lamoreaux Landing Wine Cellars for a locally-crafted\, delicious food and wine pairing featuring five foccacia bites made by Kiely’s Home Cooking\, each paired with a Lamoreaux wine. \nThe price per seat is $25 and reservations are required. \nPlease call 607-582-6011 to book your seat(s)! If space is available\, they may be able to accommodate walk-in guests. \nThese tastings are offered on Fridays\, with the first seating at 10am and the last seating is at 4:30pm.
URL:https://senecalakewine.com/event/friday-and-foccacia-at-lamoreaux-landing-wine-cellars/2024-08-16/
LOCATION:Lamoreaux Landing Wine Cellars\, 9224 State Route 414\, Lodi\, NY\, 14860\, United States
ATTACH;FMTTYPE=image/jpeg:https://senecalakewine.com/wp-content/uploads/2024/08/Lamoreaux-Foccacia-rotated.jpg
END:VEVENT
BEGIN:VEVENT
DTSTART;TZID=America/New_York:20240809T100000
DTEND;TZID=America/New_York:20240809T170000
DTSTAMP:20260421T044319
CREATED:20240809T180811Z
LAST-MODIFIED:20240809T182642Z
UID:10005371-1723197600-1723222800@senecalakewine.com
SUMMARY:Friday and Foccacia at Lamoreaux Landing Wine Cellars
DESCRIPTION:Join Lamoreaux Landing Wine Cellars for a locally-crafted\, delicious food and wine pairing featuring five foccacia bites made by Kiely’s Home Cooking\, each paired with a Lamoreaux wine. \nThe price per seat is $25 and reservations are required. \nPlease call 607-582-6011 to book your seat(s)! If space is available\, they may be able to accommodate walk-in guests. \nThese tastings are offered on Fridays\, with the first seating at 10am and the last seating is at 4:30pm.
URL:https://senecalakewine.com/event/friday-and-foccacia-at-lamoreaux-landing-wine-cellars/2024-08-09/
LOCATION:Lamoreaux Landing Wine Cellars\, 9224 State Route 414\, Lodi\, NY\, 14860\, United States
ATTACH;FMTTYPE=image/jpeg:https://senecalakewine.com/wp-content/uploads/2024/08/Lamoreaux-Foccacia-rotated.jpg
END:VEVENT
BEGIN:VEVENT
DTSTART;TZID=America/New_York:20230219T120000
DTEND;TZID=America/New_York:20230219T170000
DTSTAMP:20260421T044319
CREATED:20230130T192122Z
LAST-MODIFIED:20230130T203402Z
UID:10002015-1676808000-1676826000@senecalakewine.com
SUMMARY:Chocolate and Wine Flight at Lamoreaux Landing
DESCRIPTION:We love Wine and Chocolate pairing experiences for Valentine’s Day and believe the most romantic part is to share it with a loved one.  \nPlease join us for an exclusive Chocolate & Wine Flight for Two – Reservations Required \nTwo Weekends only        \nFebruary 10th-12th & February 17th-19th \nEach flight includes four Lamoreaux Landing Wines exquisitely paired with \n \n2021 Pinot Noir Rosé paired with Blackberry Ginger Balsamic Chocolate \n2021 Gewürztraminer paired with Spiced Honey Square Chocolate \n2019 Merlot paired with Coffee Square Chocolate \n2020 76 West paired with Mole Bite Chocolate \nCase Club & Cuvee Club Members $48 per couple* \nNon Case Club Member $60 per couple* \n*Advanced Reservations are Required for this tasting\, please call 607.582.6011 
URL:https://senecalakewine.com/event/chocolate-and-wine-flight-at-lamoreaux-landing/2023-02-19/
LOCATION:Lamoreaux Landing Wine Cellars\, 9224 State Route 414\, Lodi\, NY\, 14860\, United States
ATTACH;FMTTYPE=image/jpeg:https://senecalakewine.com/wp-content/uploads/2023/01/Lamoreaux-Valentines.jpg
ORGANIZER;CN="Lamoreaux Landing Wine Cellars":MAILTO:katier@lamoreauxwine.com
END:VEVENT
BEGIN:VEVENT
DTSTART;TZID=America/New_York:20230218T100000
DTEND;TZID=America/New_York:20230218T170000
DTSTAMP:20260421T044319
CREATED:20230130T192122Z
LAST-MODIFIED:20230130T203402Z
UID:10002014-1676714400-1676739600@senecalakewine.com
SUMMARY:Chocolate and Wine Flight at Lamoreaux Landing
DESCRIPTION:We love Wine and Chocolate pairing experiences for Valentine’s Day and believe the most romantic part is to share it with a loved one.  \nPlease join us for an exclusive Chocolate & Wine Flight for Two – Reservations Required \nTwo Weekends only        \nFebruary 10th-12th & February 17th-19th \nEach flight includes four Lamoreaux Landing Wines exquisitely paired with \n \n2021 Pinot Noir Rosé paired with Blackberry Ginger Balsamic Chocolate \n2021 Gewürztraminer paired with Spiced Honey Square Chocolate \n2019 Merlot paired with Coffee Square Chocolate \n2020 76 West paired with Mole Bite Chocolate \nCase Club & Cuvee Club Members $48 per couple* \nNon Case Club Member $60 per couple* \n*Advanced Reservations are Required for this tasting\, please call 607.582.6011 
URL:https://senecalakewine.com/event/chocolate-and-wine-flight-at-lamoreaux-landing/2023-02-18/
LOCATION:Lamoreaux Landing Wine Cellars\, 9224 State Route 414\, Lodi\, NY\, 14860\, United States
ATTACH;FMTTYPE=image/jpeg:https://senecalakewine.com/wp-content/uploads/2023/01/Lamoreaux-Valentines.jpg
ORGANIZER;CN="Lamoreaux Landing Wine Cellars":MAILTO:katier@lamoreauxwine.com
END:VEVENT
BEGIN:VEVENT
DTSTART;TZID=America/New_York:20230217T100000
DTEND;TZID=America/New_York:20230217T170000
DTSTAMP:20260421T044319
CREATED:20230130T192122Z
LAST-MODIFIED:20230130T203402Z
UID:10002013-1676628000-1676653200@senecalakewine.com
SUMMARY:Chocolate and Wine Flight at Lamoreaux Landing
DESCRIPTION:We love Wine and Chocolate pairing experiences for Valentine’s Day and believe the most romantic part is to share it with a loved one.  \nPlease join us for an exclusive Chocolate & Wine Flight for Two – Reservations Required \nTwo Weekends only        \nFebruary 10th-12th & February 17th-19th \nEach flight includes four Lamoreaux Landing Wines exquisitely paired with \n \n2021 Pinot Noir Rosé paired with Blackberry Ginger Balsamic Chocolate \n2021 Gewürztraminer paired with Spiced Honey Square Chocolate \n2019 Merlot paired with Coffee Square Chocolate \n2020 76 West paired with Mole Bite Chocolate \nCase Club & Cuvee Club Members $48 per couple* \nNon Case Club Member $60 per couple* \n*Advanced Reservations are Required for this tasting\, please call 607.582.6011 
URL:https://senecalakewine.com/event/chocolate-and-wine-flight-at-lamoreaux-landing/2023-02-17/
LOCATION:Lamoreaux Landing Wine Cellars\, 9224 State Route 414\, Lodi\, NY\, 14860\, United States
ATTACH;FMTTYPE=image/jpeg:https://senecalakewine.com/wp-content/uploads/2023/01/Lamoreaux-Valentines.jpg
ORGANIZER;CN="Lamoreaux Landing Wine Cellars":MAILTO:katier@lamoreauxwine.com
END:VEVENT
BEGIN:VEVENT
DTSTART;TZID=America/New_York:20230212T120000
DTEND;TZID=America/New_York:20230212T170000
DTSTAMP:20260421T044319
CREATED:20230130T192122Z
LAST-MODIFIED:20230130T203402Z
UID:10002012-1676203200-1676221200@senecalakewine.com
SUMMARY:Chocolate and Wine Flight at Lamoreaux Landing
DESCRIPTION:We love Wine and Chocolate pairing experiences for Valentine’s Day and believe the most romantic part is to share it with a loved one.  \nPlease join us for an exclusive Chocolate & Wine Flight for Two – Reservations Required \nTwo Weekends only        \nFebruary 10th-12th & February 17th-19th \nEach flight includes four Lamoreaux Landing Wines exquisitely paired with \n \n2021 Pinot Noir Rosé paired with Blackberry Ginger Balsamic Chocolate \n2021 Gewürztraminer paired with Spiced Honey Square Chocolate \n2019 Merlot paired with Coffee Square Chocolate \n2020 76 West paired with Mole Bite Chocolate \nCase Club & Cuvee Club Members $48 per couple* \nNon Case Club Member $60 per couple* \n*Advanced Reservations are Required for this tasting\, please call 607.582.6011 
URL:https://senecalakewine.com/event/chocolate-and-wine-flight-at-lamoreaux-landing/2023-02-12/
LOCATION:Lamoreaux Landing Wine Cellars\, 9224 State Route 414\, Lodi\, NY\, 14860\, United States
ATTACH;FMTTYPE=image/jpeg:https://senecalakewine.com/wp-content/uploads/2023/01/Lamoreaux-Valentines.jpg
ORGANIZER;CN="Lamoreaux Landing Wine Cellars":MAILTO:katier@lamoreauxwine.com
END:VEVENT
BEGIN:VEVENT
DTSTART;TZID=America/New_York:20230211T100000
DTEND;TZID=America/New_York:20230211T170000
DTSTAMP:20260421T044319
CREATED:20230130T192122Z
LAST-MODIFIED:20230130T203402Z
UID:10002011-1676109600-1676134800@senecalakewine.com
SUMMARY:Chocolate and Wine Flight at Lamoreaux Landing
DESCRIPTION:We love Wine and Chocolate pairing experiences for Valentine’s Day and believe the most romantic part is to share it with a loved one.  \nPlease join us for an exclusive Chocolate & Wine Flight for Two – Reservations Required \nTwo Weekends only        \nFebruary 10th-12th & February 17th-19th \nEach flight includes four Lamoreaux Landing Wines exquisitely paired with \n \n2021 Pinot Noir Rosé paired with Blackberry Ginger Balsamic Chocolate \n2021 Gewürztraminer paired with Spiced Honey Square Chocolate \n2019 Merlot paired with Coffee Square Chocolate \n2020 76 West paired with Mole Bite Chocolate \nCase Club & Cuvee Club Members $48 per couple* \nNon Case Club Member $60 per couple* \n*Advanced Reservations are Required for this tasting\, please call 607.582.6011 
URL:https://senecalakewine.com/event/chocolate-and-wine-flight-at-lamoreaux-landing/2023-02-11/
LOCATION:Lamoreaux Landing Wine Cellars\, 9224 State Route 414\, Lodi\, NY\, 14860\, United States
ATTACH;FMTTYPE=image/jpeg:https://senecalakewine.com/wp-content/uploads/2023/01/Lamoreaux-Valentines.jpg
ORGANIZER;CN="Lamoreaux Landing Wine Cellars":MAILTO:katier@lamoreauxwine.com
END:VEVENT
BEGIN:VEVENT
DTSTART;TZID=America/New_York:20230210T100000
DTEND;TZID=America/New_York:20230210T170000
DTSTAMP:20260421T044319
CREATED:20230130T192122Z
LAST-MODIFIED:20230130T203402Z
UID:10002010-1676023200-1676048400@senecalakewine.com
SUMMARY:Chocolate and Wine Flight at Lamoreaux Landing
DESCRIPTION:We love Wine and Chocolate pairing experiences for Valentine’s Day and believe the most romantic part is to share it with a loved one.  \nPlease join us for an exclusive Chocolate & Wine Flight for Two – Reservations Required \nTwo Weekends only        \nFebruary 10th-12th & February 17th-19th \nEach flight includes four Lamoreaux Landing Wines exquisitely paired with \n \n2021 Pinot Noir Rosé paired with Blackberry Ginger Balsamic Chocolate \n2021 Gewürztraminer paired with Spiced Honey Square Chocolate \n2019 Merlot paired with Coffee Square Chocolate \n2020 76 West paired with Mole Bite Chocolate \nCase Club & Cuvee Club Members $48 per couple* \nNon Case Club Member $60 per couple* \n*Advanced Reservations are Required for this tasting\, please call 607.582.6011 
URL:https://senecalakewine.com/event/chocolate-and-wine-flight-at-lamoreaux-landing/2023-02-10/
LOCATION:Lamoreaux Landing Wine Cellars\, 9224 State Route 414\, Lodi\, NY\, 14860\, United States
ATTACH;FMTTYPE=image/jpeg:https://senecalakewine.com/wp-content/uploads/2023/01/Lamoreaux-Valentines.jpg
ORGANIZER;CN="Lamoreaux Landing Wine Cellars":MAILTO:katier@lamoreauxwine.com
END:VEVENT
BEGIN:VEVENT
DTSTART;TZID=America/New_York:20210506T170000
DTEND;TZID=America/New_York:20210506T180000
DTSTAMP:20260421T044319
CREATED:20210208T154706Z
LAST-MODIFIED:20210208T154706Z
UID:10000978-1620320400-1620324000@senecalakewine.com
SUMMARY:Virtual Happy Hour with the Winemakers – Summer Crushes
DESCRIPTION:Come May\, our minds drift to summer activities; cooking dinner outside\, spending time by the water\, and of course\, the wine we will be enjoying along the way! Join Josh\, Aaron\, and Jesse as they taste and talk about their tried and true summer wines on Thursday\, May 6th at 5pm on Facebook Live and Instagram Live. We will be featuring the 2017 Chardonnay\, 2018 Semi-Dry Riesling\, and the Estate Red. \nDon’t have all three vintages at home? Don’t worry; we’ll keep your glass full! Our Summer Crushes Trio is just $34 and includes a bottle of each\, and shipping is just $10.
URL:https://senecalakewine.com/event/virtual-happy-hour-with-the-winemakers-summer-crushes/
LOCATION:Lamoreaux Landing Wine Cellars\, 9224 State Route 414\, Lodi\, NY\, 14860\, United States
ATTACH;FMTTYPE=image/png:https://senecalakewine.com/wp-content/uploads/2021/02/Summer-Crushes.png
ORGANIZER;CN="Lamoreaux Landing Wine Cellars":MAILTO:katier@lamoreauxwine.com
END:VEVENT
BEGIN:VEVENT
DTSTART;TZID=America/New_York:20210408T170000
DTEND;TZID=America/New_York:20210408T170000
DTSTAMP:20260421T044319
CREATED:20210208T154647Z
LAST-MODIFIED:20210208T154647Z
UID:10000976-1617901200-1617901200@senecalakewine.com
SUMMARY:Virtual Happy Hour with the Winemakers – Terroir Leaders
DESCRIPTION:Our winemaking begins in the vineyard. We attribute much of our success\, distinction\, and pride to our vineyard site\, our proximity to Seneca Lake\, and our unique soil compostition\, our terroir. Join Josh\, Aaron\, and Jesse as they taste and talk about the wines they think are tremendous expression of our terroir at Lamoreaux Landing. Thursday\, April 8th at 5pm on Facebook Live and Instagram Live.\nDon’t have all three vintages at home? Don’t worry; we’ll keep your glass full! Our Terroir Leaders Trio includes a bottle of each\, and shipping is just $10. This package includes wine that has not yet been bottled and will be available soon. 
URL:https://senecalakewine.com/event/virtual-happy-hour-with-the-winemakers-terroir-leaders/
LOCATION:Lamoreaux Landing Wine Cellars\, 9224 State Route 414\, Lodi\, NY\, 14860\, United States
ATTACH;FMTTYPE=image/png:https://senecalakewine.com/wp-content/uploads/2021/02/Terroir-Leaders.png
ORGANIZER;CN="Lamoreaux Landing Wine Cellars":MAILTO:katier@lamoreauxwine.com
END:VEVENT
BEGIN:VEVENT
DTSTART;TZID=America/New_York:20210311T170000
DTEND;TZID=America/New_York:20210311T180000
DTSTAMP:20260421T044319
CREATED:20210208T154645Z
LAST-MODIFIED:20210208T154645Z
UID:10000974-1615482000-1615485600@senecalakewine.com
SUMMARY:Virtual Happy Hour with the Winemakers – Easter Pairings
DESCRIPTION:We love chatting wine pairing\, and no meal is more perfect to pair with Lamoreaux Landing wine than Easter dinner! Join Josh\, Aaron\, and Jesse as they taste and talk about our best varietals to sip on while enjoying classic and inspired holiday dishes. March 11th at 5pm on Facebook Live and Instagram Live.\nDon’t have all three vintages at home? Don’t worry; we’ll keep your glass full! Our Easter Pairing Trio includes a bottle of each\, and shipping is just $10. This trio includes a wine future that has not been bottles yet\, coming soon.
URL:https://senecalakewine.com/event/virtual-happy-hour-with-the-winemakers-easter-pairings/
LOCATION:Lamoreaux Landing Wine Cellars\, 9224 State Route 414\, Lodi\, NY\, 14860\, United States
ATTACH;FMTTYPE=image/png:https://senecalakewine.com/wp-content/uploads/2021/02/Easter-Pairings-Virtual.png
ORGANIZER;CN="Lamoreaux Landing Wine Cellars":MAILTO:katier@lamoreauxwine.com
END:VEVENT
BEGIN:VEVENT
DTSTART;TZID=America/New_York:20210211T170000
DTEND;TZID=America/New_York:20210211T180000
DTSTAMP:20260421T044319
CREATED:20210208T152022Z
LAST-MODIFIED:20210208T152039Z
UID:10000972-1613062800-1613066400@senecalakewine.com
SUMMARY:Virtual Happy Hour with the Winemakers – Valentine Wine
DESCRIPTION:Join Josh\, Aaron\, and Jesse as they taste and talk about ideal wine for Valentines Day on Facebook Live or Instagram Live. We will be featuring the 2014 Blanc de Blanc\, 2018 Grüner Veltliner\, and the 2017 Cabernet Franc. \nOur Valentine Wine trio includes a bottle of each. for just $70 and shipping is just $10. \nAt 5pm on the day of the tastings\, simply visit our Facebook page to view the video live on our feed or click on our Instagram profile picture to view the live video on Instagram. \nVALENTINE WINE TRIO – $70
URL:https://senecalakewine.com/event/virtual-happy-hour-with-the-winemakers-valentine-wine/
LOCATION:Lamoreaux Landing Wine Cellars\, 9224 State Route 414\, Lodi\, NY\, 14860\, United States
ATTACH;FMTTYPE=image/png:https://senecalakewine.com/wp-content/uploads/2021/02/V-Day-Virtual-1.png
ORGANIZER;CN="Lamoreaux Landing Wine Cellars":MAILTO:katier@lamoreauxwine.com
END:VEVENT
END:VCALENDAR