BEGIN:VCALENDAR
VERSION:2.0
PRODID:-//Seneca Lake Wine Trail - ECPv6.15.17.1//NONSGML v1.0//EN
CALSCALE:GREGORIAN
METHOD:PUBLISH
X-WR-CALNAME:Seneca Lake Wine Trail
X-ORIGINAL-URL:https://senecalakewine.com
X-WR-CALDESC:Events for Seneca Lake Wine Trail
REFRESH-INTERVAL;VALUE=DURATION:PT1H
X-Robots-Tag:noindex
X-PUBLISHED-TTL:PT1H
BEGIN:VTIMEZONE
TZID:America/New_York
BEGIN:DAYLIGHT
TZOFFSETFROM:-0500
TZOFFSETTO:-0400
TZNAME:EDT
DTSTART:20230312T070000
END:DAYLIGHT
BEGIN:STANDARD
TZOFFSETFROM:-0400
TZOFFSETTO:-0500
TZNAME:EST
DTSTART:20231105T060000
END:STANDARD
BEGIN:DAYLIGHT
TZOFFSETFROM:-0500
TZOFFSETTO:-0400
TZNAME:EDT
DTSTART:20240310T070000
END:DAYLIGHT
BEGIN:STANDARD
TZOFFSETFROM:-0400
TZOFFSETTO:-0500
TZNAME:EST
DTSTART:20241103T060000
END:STANDARD
BEGIN:DAYLIGHT
TZOFFSETFROM:-0500
TZOFFSETTO:-0400
TZNAME:EDT
DTSTART:20250309T070000
END:DAYLIGHT
BEGIN:STANDARD
TZOFFSETFROM:-0400
TZOFFSETTO:-0500
TZNAME:EST
DTSTART:20251102T060000
END:STANDARD
END:VTIMEZONE
BEGIN:VEVENT
DTSTART;TZID=America/New_York:20241005T110000
DTEND;TZID=America/New_York:20241005T170000
DTSTAMP:20260422T022223
CREATED:20240528T123722Z
LAST-MODIFIED:20240528T124122Z
UID:10003442-1728126000-1728147600@senecalakewine.com
SUMMARY:Doug's Fish Fry at Caywood Vineyards
DESCRIPTION:Join us at Caywood Vineyards on the first Saturday of each month\, when we’ll be joined by the Finger Lakes famous Doug’s Fish Fry! \nThe food truck will be serving from 11am-5pm. Pair it with a glass of wine and enjoy your meal at one of our picnic tables overlooking beautiful Seneca Lake.
URL:https://senecalakewine.com/event/dougs-fish-fry-at-caywood-vineyards/2024-10-05/
LOCATION:Caywood Vineyards\, 9666 State Route 414\, Lodi\, NY\, 14860\, United States
ATTACH;FMTTYPE=image/jpeg:https://senecalakewine.com/wp-content/uploads/2023/08/Caywood-Glass-and-Picnic-Table-with-Lake-in-Background-scaled.jpg
END:VEVENT
BEGIN:VEVENT
DTSTART;TZID=America/New_York:20240907T110000
DTEND;TZID=America/New_York:20240907T170000
DTSTAMP:20260422T022223
CREATED:20240528T123722Z
LAST-MODIFIED:20240528T124122Z
UID:10003441-1725706800-1725728400@senecalakewine.com
SUMMARY:Doug's Fish Fry at Caywood Vineyards
DESCRIPTION:Join us at Caywood Vineyards on the first Saturday of each month\, when we’ll be joined by the Finger Lakes famous Doug’s Fish Fry! \nThe food truck will be serving from 11am-5pm. Pair it with a glass of wine and enjoy your meal at one of our picnic tables overlooking beautiful Seneca Lake.
URL:https://senecalakewine.com/event/dougs-fish-fry-at-caywood-vineyards/2024-09-07/
LOCATION:Caywood Vineyards\, 9666 State Route 414\, Lodi\, NY\, 14860\, United States
ATTACH;FMTTYPE=image/jpeg:https://senecalakewine.com/wp-content/uploads/2023/08/Caywood-Glass-and-Picnic-Table-with-Lake-in-Background-scaled.jpg
END:VEVENT
BEGIN:VEVENT
DTSTART;TZID=America/New_York:20240803T110000
DTEND;TZID=America/New_York:20240803T170000
DTSTAMP:20260422T022223
CREATED:20240528T123722Z
LAST-MODIFIED:20240528T124122Z
UID:10003440-1722682800-1722704400@senecalakewine.com
SUMMARY:Doug's Fish Fry at Caywood Vineyards
DESCRIPTION:Join us at Caywood Vineyards on the first Saturday of each month\, when we’ll be joined by the Finger Lakes famous Doug’s Fish Fry! \nThe food truck will be serving from 11am-5pm. Pair it with a glass of wine and enjoy your meal at one of our picnic tables overlooking beautiful Seneca Lake.
URL:https://senecalakewine.com/event/dougs-fish-fry-at-caywood-vineyards/2024-08-03/
LOCATION:Caywood Vineyards\, 9666 State Route 414\, Lodi\, NY\, 14860\, United States
ATTACH;FMTTYPE=image/jpeg:https://senecalakewine.com/wp-content/uploads/2023/08/Caywood-Glass-and-Picnic-Table-with-Lake-in-Background-scaled.jpg
END:VEVENT
BEGIN:VEVENT
DTSTART;TZID=America/New_York:20240706T110000
DTEND;TZID=America/New_York:20240706T170000
DTSTAMP:20260422T022223
CREATED:20240528T123722Z
LAST-MODIFIED:20240528T124122Z
UID:10003439-1720263600-1720285200@senecalakewine.com
SUMMARY:Doug's Fish Fry at Caywood Vineyards
DESCRIPTION:Join us at Caywood Vineyards on the first Saturday of each month\, when we’ll be joined by the Finger Lakes famous Doug’s Fish Fry! \nThe food truck will be serving from 11am-5pm. Pair it with a glass of wine and enjoy your meal at one of our picnic tables overlooking beautiful Seneca Lake.
URL:https://senecalakewine.com/event/dougs-fish-fry-at-caywood-vineyards/2024-07-06/
LOCATION:Caywood Vineyards\, 9666 State Route 414\, Lodi\, NY\, 14860\, United States
ATTACH;FMTTYPE=image/jpeg:https://senecalakewine.com/wp-content/uploads/2023/08/Caywood-Glass-and-Picnic-Table-with-Lake-in-Background-scaled.jpg
END:VEVENT
BEGIN:VEVENT
DTSTART;TZID=America/New_York:20240601T110000
DTEND;TZID=America/New_York:20240601T170000
DTSTAMP:20260422T022223
CREATED:20240528T123722Z
LAST-MODIFIED:20240528T124122Z
UID:10003438-1717239600-1717261200@senecalakewine.com
SUMMARY:Doug's Fish Fry at Caywood Vineyards
DESCRIPTION:Join us at Caywood Vineyards on the first Saturday of each month\, when we’ll be joined by the Finger Lakes famous Doug’s Fish Fry! \nThe food truck will be serving from 11am-5pm. Pair it with a glass of wine and enjoy your meal at one of our picnic tables overlooking beautiful Seneca Lake.
URL:https://senecalakewine.com/event/dougs-fish-fry-at-caywood-vineyards/2024-06-01/
LOCATION:Caywood Vineyards\, 9666 State Route 414\, Lodi\, NY\, 14860\, United States
ATTACH;FMTTYPE=image/jpeg:https://senecalakewine.com/wp-content/uploads/2023/08/Caywood-Glass-and-Picnic-Table-with-Lake-in-Background-scaled.jpg
END:VEVENT
END:VCALENDAR