BEGIN:VCALENDAR
VERSION:2.0
PRODID:-//Seneca Lake Wine Trail - ECPv6.15.17.1//NONSGML v1.0//EN
CALSCALE:GREGORIAN
METHOD:PUBLISH
X-WR-CALNAME:Seneca Lake Wine Trail
X-ORIGINAL-URL:https://senecalakewine.com
X-WR-CALDESC:Events for Seneca Lake Wine Trail
REFRESH-INTERVAL;VALUE=DURATION:PT1H
X-Robots-Tag:noindex
X-PUBLISHED-TTL:PT1H
BEGIN:VTIMEZONE
TZID:America/New_York
BEGIN:DAYLIGHT
TZOFFSETFROM:-0500
TZOFFSETTO:-0400
TZNAME:EDT
DTSTART:20250309T070000
END:DAYLIGHT
BEGIN:STANDARD
TZOFFSETFROM:-0400
TZOFFSETTO:-0500
TZNAME:EST
DTSTART:20251102T060000
END:STANDARD
BEGIN:DAYLIGHT
TZOFFSETFROM:-0500
TZOFFSETTO:-0400
TZNAME:EDT
DTSTART:20260308T070000
END:DAYLIGHT
BEGIN:STANDARD
TZOFFSETFROM:-0400
TZOFFSETTO:-0500
TZNAME:EST
DTSTART:20261101T060000
END:STANDARD
BEGIN:DAYLIGHT
TZOFFSETFROM:-0500
TZOFFSETTO:-0400
TZNAME:EDT
DTSTART:20270314T070000
END:DAYLIGHT
BEGIN:STANDARD
TZOFFSETFROM:-0400
TZOFFSETTO:-0500
TZNAME:EST
DTSTART:20271107T060000
END:STANDARD
END:VTIMEZONE
BEGIN:VEVENT
DTSTART;TZID=America/New_York:20260510T110000
DTEND;TZID=America/New_York:20260510T180000
DTSTAMP:20260421T144806
CREATED:20260420T155533Z
LAST-MODIFIED:20260420T155533Z
UID:10012228-1778410800-1778436000@senecalakewine.com
SUMMARY:Mom's Day Off at Castel Grisch Winery
DESCRIPTION:🌸 Mom’s Day Off at Castel Grisch Winery\nLet the kids explore… while mom finally gets to relax. \n• Complimentary glass of wine for moms\n• Outdoor deck with beautiful Seneca Lake views\n• Dinosaur park for kids to explore\n• Disc golf course for family fun\n• Wine + food pairings available throughout the day \nIt’s the perfect spot for families looking to spend time together\, while giving mom a moment to truly unwind. \nNo reservations required.
URL:https://senecalakewine.com/event/moms-day-off-at-castel-grisch-winery/
LOCATION:Castel Grisch Winery\, 3380 County Route 28\, Watkins Glen\, NY\, 14891\, United States
ATTACH;FMTTYPE=image/png:https://senecalakewine.com/wp-content/uploads/2026/04/Moms-Day-off-at-Castel-Grisch-Winery.png
ORGANIZER;CN="Castel Grisch Winery":MAILTO:castel.grisch@gmail.com
END:VEVENT
END:VCALENDAR